Package: MetaPhOR Version: 1.8.0 Command: /Library/Frameworks/R.framework/Resources/bin/R CMD INSTALL MetaPhOR StartedAt: 2025-01-27 16:30:35 -0500 (Mon, 27 Jan 2025) EndedAt: 2025-01-27 16:31:29 -0500 (Mon, 27 Jan 2025) EllapsedTime: 54.3 seconds RetCode: 0 Status: OK