Package: MetaPhOR Version: 1.8.0 Command: /Library/Frameworks/R.framework/Resources/bin/R CMD build --keep-empty-dirs --no-resave-data MetaPhOR StartedAt: 2025-01-27 20:18:18 -0500 (Mon, 27 Jan 2025) EndedAt: 2025-01-27 20:58:19 -0500 (Mon, 27 Jan 2025) EllapsedTime: 2400.8 seconds RetCode: None Status: TIMEOUT PackageFile: None PackageFileSize: NA