Package: MetaPhOR Version: 1.8.0 Command: /Library/Frameworks/R.framework/Resources/bin/R CMD check --install=check:MetaPhOR.install-out.txt --library=/Library/Frameworks/R.framework/Resources/library --no-vignettes --timings MetaPhOR_1.8.0.tar.gz StartedAt: 2025-04-02 00:12:03 -0400 (Wed, 02 Apr 2025) EndedAt: 2025-04-02 00:24:05 -0400 (Wed, 02 Apr 2025) EllapsedTime: 722.1 seconds RetCode: 0 Status: OK CheckDir: MetaPhOR.Rcheck Warnings: 0