Package: MetNet Version: 1.24.0 Command: /Library/Frameworks/R.framework/Resources/bin/R CMD build --keep-empty-dirs --no-resave-data MetNet StartedAt: 2025-04-01 03:03:08 -0400 (Tue, 01 Apr 2025) EndedAt: 2025-04-01 03:04:01 -0400 (Tue, 01 Apr 2025) EllapsedTime: 52.3 seconds RetCode: 0 Status: OK PackageFile: MetNet_1.24.0.tar.gz PackageFileSize: 4.092 MiB