Package: MetMashR Version: 1.0.0 Command: /home/biocbuild/R/R/bin/R CMD build --keep-empty-dirs --no-resave-data MetMashR StartedAt: 2025-04-01 00:45:18 -0000 (Tue, 01 Apr 2025) EndedAt: 2025-04-01 00:52:16 -0000 (Tue, 01 Apr 2025) EllapsedTime: 417.2 seconds RetCode: 1 Status: ERROR PackageFile: None PackageFileSize: NA