Package: MetMashR Version: 1.0.0 Command: F:\biocbuild\bbs-3.20-bioc\R\bin\R.exe CMD check --no-multiarch --install=check:MetMashR.install-out.txt --library=F:\biocbuild\bbs-3.20-bioc\R\library --no-vignettes --timings MetMashR_1.0.0.tar.gz StartedAt: 2025-01-28 03:23:28 -0500 (Tue, 28 Jan 2025) EndedAt: 2025-01-28 03:27:33 -0500 (Tue, 28 Jan 2025) EllapsedTime: 245.3 seconds RetCode: 0 Status: OK CheckDir: MetMashR.Rcheck Warnings: 0