Package: MetMashR Version: 1.0.0 Command: rm -rf MetMashR.buildbin-libdir && mkdir MetMashR.buildbin-libdir && F:\biocbuild\bbs-3.20-bioc\R\bin\R.exe CMD INSTALL --build --library=MetMashR.buildbin-libdir MetMashR_1.0.0.tar.gz StartedAt: 2025-01-28 08:33:15 -0500 (Tue, 28 Jan 2025) EndedAt: 2025-01-28 08:34:49 -0500 (Tue, 28 Jan 2025) EllapsedTime: 94.0 seconds RetCode: 0 Status: OK PackageFile: MetMashR_1.0.0.zip PackageFileSize: 6.163 MiB