Package: MetMashR Version: 1.0.0 Command: /home/biocbuild/bbs-3.20-bioc/R/bin/R CMD INSTALL MetMashR StartedAt: 2025-01-27 16:07:12 -0500 (Mon, 27 Jan 2025) EndedAt: 2025-01-27 16:07:43 -0500 (Mon, 27 Jan 2025) EllapsedTime: 31.4 seconds RetCode: 0 Status: OK