Package: MetMashR Version: 1.0.0 Command: /Library/Frameworks/R.framework/Resources/bin/R CMD build --keep-empty-dirs --no-resave-data MetMashR StartedAt: 2025-01-27 20:24:45 -0500 (Mon, 27 Jan 2025) EndedAt: 2025-01-27 20:38:42 -0500 (Mon, 27 Jan 2025) EllapsedTime: 836.9 seconds RetCode: 1 Status: ERROR PackageFile: None PackageFileSize: NA