Package: MetMashR Version: 1.0.0 Command: /Library/Frameworks/R.framework/Resources/bin/R CMD INSTALL MetMashR StartedAt: 2025-01-27 15:40:07 -0500 (Mon, 27 Jan 2025) EndedAt: 2025-01-27 15:40:44 -0500 (Mon, 27 Jan 2025) EllapsedTime: 37.1 seconds RetCode: 0 Status: OK