Package: MetMashR Version: 1.0.0 Command: /Library/Frameworks/R.framework/Resources/bin/R CMD build --keep-empty-dirs --no-resave-data MetMashR StartedAt: 2025-01-28 03:12:08 -0500 (Tue, 28 Jan 2025) EndedAt: 2025-01-28 03:16:41 -0500 (Tue, 28 Jan 2025) EllapsedTime: 273.0 seconds RetCode: 1 Status: ERROR PackageFile: None PackageFileSize: NA