Package: MetID Version: 1.24.0 Command: /home/biocbuild/R/R/bin/R CMD INSTALL MetID StartedAt: 2025-01-30 21:01:44 -0000 (Thu, 30 Jan 2025) EndedAt: 2025-01-30 21:01:57 -0000 (Thu, 30 Jan 2025) EllapsedTime: 13.1 seconds RetCode: 0 Status: OK