Package: MetID Version: 1.24.0 Command: /home/biocbuild/bbs-3.20-bioc/R/bin/R CMD build --keep-empty-dirs --no-resave-data --md5 MetID StartedAt: 2025-03-31 18:00:07 -0400 (Mon, 31 Mar 2025) EndedAt: 2025-03-31 18:00:35 -0400 (Mon, 31 Mar 2025) EllapsedTime: 28.0 seconds RetCode: 0 Status: OK PackageFile: MetID_1.24.0.tar.gz PackageFileSize: 1.505 MiB