Package: MetCirc Version: 1.36.0 Command: /home/biocbuild/R/R/bin/R CMD check --install=check:MetCirc.install-out.txt --library=/home/biocbuild/R/R/site-library --no-vignettes --timings MetCirc_1.36.0.tar.gz StartedAt: 2025-01-31 07:54:49 -0000 (Fri, 31 Jan 2025) EndedAt: 2025-01-31 07:58:50 -0000 (Fri, 31 Jan 2025) EllapsedTime: 240.3 seconds RetCode: 0 Status: OK CheckDir: MetCirc.Rcheck Warnings: 0