Package: MetCirc Version: 1.36.0 Command: /home/biocbuild/R/R/bin/R CMD build --keep-empty-dirs --no-resave-data MetCirc StartedAt: 2025-04-01 00:40:29 -0000 (Tue, 01 Apr 2025) EndedAt: 2025-04-01 00:41:51 -0000 (Tue, 01 Apr 2025) EllapsedTime: 82.0 seconds RetCode: 0 Status: OK PackageFile: MetCirc_1.36.0.tar.gz PackageFileSize: 2.131 MiB