Package: MetCirc Version: 1.36.0 Command: /Library/Frameworks/R.framework/Resources/bin/R CMD build --keep-empty-dirs --no-resave-data MetCirc StartedAt: 2025-03-31 19:55:42 -0400 (Mon, 31 Mar 2025) EndedAt: 2025-03-31 19:58:03 -0400 (Mon, 31 Mar 2025) EllapsedTime: 141.0 seconds RetCode: 0 Status: OK PackageFile: MetCirc_1.36.0.tar.gz PackageFileSize: 2.068 MiB