Package: MesKit Version: 1.16.0 Command: F:\biocbuild\bbs-3.20-bioc\R\bin\R.exe CMD check --no-multiarch --install=check:MesKit.install-out.txt --library=F:\biocbuild\bbs-3.20-bioc\R\library --no-vignettes --timings MesKit_1.16.0.tar.gz StartedAt: 2025-02-04 03:29:21 -0500 (Tue, 04 Feb 2025) EndedAt: 2025-02-04 03:40:21 -0500 (Tue, 04 Feb 2025) EllapsedTime: 660.4 seconds RetCode: 0 Status: WARNINGS CheckDir: MesKit.Rcheck Warnings: 1