Package: MesKit Version: 1.16.0 Command: /Library/Frameworks/R.framework/Resources/bin/R CMD INSTALL MesKit StartedAt: 2025-03-31 15:45:52 -0400 (Mon, 31 Mar 2025) EndedAt: 2025-03-31 15:46:40 -0400 (Mon, 31 Mar 2025) EllapsedTime: 47.8 seconds RetCode: 0 Status: OK