Package: MesKit Version: 1.16.0 Command: /Library/Frameworks/R.framework/Resources/bin/R CMD build --keep-empty-dirs --no-resave-data MesKit StartedAt: 2025-01-28 02:42:13 -0500 (Tue, 28 Jan 2025) EndedAt: 2025-01-28 02:43:49 -0500 (Tue, 28 Jan 2025) EllapsedTime: 96.4 seconds RetCode: 0 Status: OK PackageFile: MesKit_1.16.0.tar.gz PackageFileSize: 4.007 MiB