Package: Mergeomics Version: 1.34.0 Command: /home/biocbuild/R/R/bin/R CMD build --keep-empty-dirs --no-resave-data Mergeomics StartedAt: 2025-01-28 01:23:24 -0000 (Tue, 28 Jan 2025) EndedAt: 2025-01-28 01:36:38 -0000 (Tue, 28 Jan 2025) EllapsedTime: 793.3 seconds RetCode: 0 Status: OK PackageFile: Mergeomics_1.34.0.tar.gz PackageFileSize: 3.198 MiB