Package: Melissa Version: 1.22.0 Command: chmod a+r Melissa -R && F:\biocbuild\bbs-3.20-bioc\R\bin\R.exe CMD build --keep-empty-dirs --no-resave-data Melissa StartedAt: 2025-02-03 20:12:21 -0500 (Mon, 03 Feb 2025) EndedAt: 2025-02-03 20:16:27 -0500 (Mon, 03 Feb 2025) EllapsedTime: 245.8 seconds RetCode: 0 Status: OK PackageFile: Melissa_1.22.0.tar.gz PackageFileSize: 2.196 MiB