Package: Melissa Version: 1.22.0 Command: rm -rf Melissa.buildbin-libdir && mkdir Melissa.buildbin-libdir && F:\biocbuild\bbs-3.20-bioc\R\bin\R.exe CMD INSTALL --build --library=Melissa.buildbin-libdir Melissa_1.22.0.tar.gz StartedAt: 2025-02-04 08:52:16 -0500 (Tue, 04 Feb 2025) EndedAt: 2025-02-04 08:52:48 -0500 (Tue, 04 Feb 2025) EllapsedTime: 31.9 seconds RetCode: 0 Status: OK PackageFile: Melissa_1.22.0.zip PackageFileSize: 3.693 MiB