Package: Melissa Version: 1.22.0 Command: /home/biocbuild/bbs-3.20-bioc/R/bin/R CMD INSTALL Melissa StartedAt: 2025-03-31 15:44:32 -0400 (Mon, 31 Mar 2025) EndedAt: 2025-03-31 15:44:50 -0400 (Mon, 31 Mar 2025) EllapsedTime: 17.9 seconds RetCode: 0 Status: OK