Package: Melissa Version: 1.22.0 Command: /home/biocbuild/bbs-3.20-bioc/R/bin/R CMD build --keep-empty-dirs --no-resave-data --md5 Melissa StartedAt: 2025-01-27 18:51:29 -0500 (Mon, 27 Jan 2025) EndedAt: 2025-01-27 18:54:06 -0500 (Mon, 27 Jan 2025) EllapsedTime: 157.2 seconds RetCode: 0 Status: OK PackageFile: Melissa_1.22.0.tar.gz PackageFileSize: 2.793 MiB