Package: Melissa Version: 1.22.0 Command: /Library/Frameworks/R.framework/Resources/bin/R CMD check --install=check:Melissa.install-out.txt --library=/Library/Frameworks/R.framework/Resources/library --no-vignettes --timings Melissa_1.22.0.tar.gz StartedAt: 2025-04-01 05:15:29 -0400 (Tue, 01 Apr 2025) EndedAt: 2025-04-01 05:20:34 -0400 (Tue, 01 Apr 2025) EllapsedTime: 305.3 seconds RetCode: 0 Status: OK CheckDir: Melissa.Rcheck Warnings: 0