Package: Melissa Version: 1.22.0 Command: /Library/Frameworks/R.framework/Resources/bin/R CMD build --keep-empty-dirs --no-resave-data Melissa StartedAt: 2025-01-27 20:14:45 -0500 (Mon, 27 Jan 2025) EndedAt: 2025-01-27 20:23:18 -0500 (Mon, 27 Jan 2025) EllapsedTime: 512.6 seconds RetCode: 0 Status: OK PackageFile: Melissa_1.22.0.tar.gz PackageFileSize: 2.883 MiB