Package: MeasurementError.cor Version: 1.78.0 Command: /home/biocbuild/R/R/bin/R CMD build --keep-empty-dirs --no-resave-data MeasurementError.cor StartedAt: 2024-11-20 01:54:19 -0000 (Wed, 20 Nov 2024) EndedAt: 2024-11-20 01:54:25 -0000 (Wed, 20 Nov 2024) EllapsedTime: 6.0 seconds RetCode: 0 Status: OK PackageFile: MeasurementError.cor_1.78.0.tar.gz PackageFileSize: 145.4 KiB