Package: MeSHDbi Version: 1.42.0 Command: /Library/Frameworks/R.framework/Resources/bin/R CMD build --keep-empty-dirs --no-resave-data MeSHDbi StartedAt: 2025-01-31 02:42:47 -0500 (Fri, 31 Jan 2025) EndedAt: 2025-01-31 02:43:08 -0500 (Fri, 31 Jan 2025) EllapsedTime: 21.5 seconds RetCode: 0 Status: OK PackageFile: MeSHDbi_1.42.0.tar.gz PackageFileSize: 119.9 KiB