Package: MatrixRider Version: 1.38.0 Command: /home/biocbuild/R/R/bin/R CMD INSTALL MatrixRider StartedAt: 2025-01-27 21:27:21 -0000 (Mon, 27 Jan 2025) EndedAt: 2025-01-27 21:28:10 -0000 (Mon, 27 Jan 2025) EllapsedTime: 49.1 seconds RetCode: 0 Status: OK