Package: MatrixRider Version: 1.38.0 Command: /home/biocbuild/R/R/bin/R CMD check --install=check:MatrixRider.install-out.txt --library=/home/biocbuild/R/R/site-library --no-vignettes --timings MatrixRider_1.38.0.tar.gz StartedAt: 2025-02-04 08:27:29 -0000 (Tue, 04 Feb 2025) EndedAt: 2025-02-04 08:32:54 -0000 (Tue, 04 Feb 2025) EllapsedTime: 325.4 seconds RetCode: 0 Status: WARNINGS CheckDir: MatrixRider.Rcheck Warnings: 1