Package: MatrixRider Version: 1.38.0 Command: chmod a+r MatrixRider -R && F:\biocbuild\bbs-3.20-bioc\R\bin\R.exe CMD build --keep-empty-dirs --no-resave-data MatrixRider StartedAt: 2025-03-31 19:57:20 -0400 (Mon, 31 Mar 2025) EndedAt: 2025-03-31 19:58:35 -0400 (Mon, 31 Mar 2025) EllapsedTime: 75.3 seconds RetCode: 0 Status: OK PackageFile: MatrixRider_1.38.0.tar.gz PackageFileSize: 265.3 KiB