Package: MatrixRider Version: 1.38.0 Command: rm -rf MatrixRider.buildbin-libdir && mkdir MatrixRider.buildbin-libdir && F:\biocbuild\bbs-3.20-bioc\R\bin\R.exe CMD INSTALL --build --library=MatrixRider.buildbin-libdir MatrixRider_1.38.0.tar.gz StartedAt: 2025-04-01 08:32:35 -0400 (Tue, 01 Apr 2025) EndedAt: 2025-04-01 08:33:34 -0400 (Tue, 01 Apr 2025) EllapsedTime: 58.8 seconds RetCode: 0 Status: OK PackageFile: MatrixRider_1.38.0.zip PackageFileSize: 289.6 KiB