Package: MatrixRider Version: 1.38.0 Command: /home/biocbuild/bbs-3.20-bioc/R/bin/R CMD check --install=check:MatrixRider.install-out.txt --library=/home/biocbuild/bbs-3.20-bioc/R/site-library --timings MatrixRider_1.38.0.tar.gz StartedAt: 2025-02-10 23:39:21 -0500 (Mon, 10 Feb 2025) EndedAt: 2025-02-10 23:44:05 -0500 (Mon, 10 Feb 2025) EllapsedTime: 283.3 seconds RetCode: 0 Status: WARNINGS CheckDir: MatrixRider.Rcheck Warnings: 1