Package: MatrixRider Version: 1.38.0 Command: rm -rf MatrixRider.buildbin-libdir && mkdir MatrixRider.buildbin-libdir && /Users/biocbuild/BBS/utils/build-universal.sh MatrixRider_1.38.0.tar.gz /Library/Frameworks/R.framework/Resources/bin/R MatrixRider.buildbin-libdir StartedAt: 2025-01-28 13:36:00 -0500 (Tue, 28 Jan 2025) EndedAt: 2025-01-28 13:38:22 -0500 (Tue, 28 Jan 2025) EllapsedTime: 142.1 seconds RetCode: 0 Status: OK PackageFile: MatrixRider_1.38.0.tgz PackageFileSize: 284.6 KiB