Package: MatrixRider Version: 1.38.0 Command: /Library/Frameworks/R.framework/Resources/bin/R CMD build --keep-empty-dirs --no-resave-data MatrixRider StartedAt: 2025-04-01 02:21:30 -0400 (Tue, 01 Apr 2025) EndedAt: 2025-04-01 02:22:46 -0400 (Tue, 01 Apr 2025) EllapsedTime: 75.9 seconds RetCode: 0 Status: OK PackageFile: MatrixRider_1.38.0.tar.gz PackageFileSize: 264.1 KiB