Package: MatrixQCvis Version: 1.14.0 Command: /home/biocbuild/bbs-3.20-bioc/R/bin/R CMD INSTALL MatrixQCvis StartedAt: 2025-03-31 15:47:12 -0400 (Mon, 31 Mar 2025) EndedAt: 2025-03-31 15:47:48 -0400 (Mon, 31 Mar 2025) EllapsedTime: 35.6 seconds RetCode: 0 Status: OK