Package: MatrixGenerics Version: 1.18.1 Command: F:\biocbuild\bbs-3.20-bioc\R\bin\R.exe CMD INSTALL MatrixGenerics StartedAt: 2025-01-27 15:29:24 -0500 (Mon, 27 Jan 2025) EndedAt: 2025-01-27 15:33:00 -0500 (Mon, 27 Jan 2025) EllapsedTime: 216.9 seconds RetCode: 0 Status: OK