Package: MatrixGenerics Version: 1.18.1 Command: F:\biocbuild\bbs-3.20-bioc\R\bin\R.exe CMD check --no-multiarch --install=check:MatrixGenerics.install-out.txt --library=F:\biocbuild\bbs-3.20-bioc\R\library --no-vignettes --timings MatrixGenerics_1.18.1.tar.gz StartedAt: 2025-01-28 03:06:10 -0500 (Tue, 28 Jan 2025) EndedAt: 2025-01-28 03:06:53 -0500 (Tue, 28 Jan 2025) EllapsedTime: 43.2 seconds RetCode: 0 Status: OK CheckDir: MatrixGenerics.Rcheck Warnings: 0