Package: MatrixGenerics Version: 1.18.1 Command: rm -rf MatrixGenerics.buildbin-libdir && mkdir MatrixGenerics.buildbin-libdir && F:\biocbuild\bbs-3.20-bioc\R\bin\R.exe CMD INSTALL --build --library=MatrixGenerics.buildbin-libdir MatrixGenerics_1.18.1.tar.gz StartedAt: 2025-01-28 08:29:32 -0500 (Tue, 28 Jan 2025) EndedAt: 2025-01-28 08:33:07 -0500 (Tue, 28 Jan 2025) EllapsedTime: 215.6 seconds RetCode: 0 Status: OK PackageFile: MatrixGenerics_1.18.1.zip PackageFileSize: 450.8 KiB