Package: MatrixGenerics Version: 1.18.1 Command: /home/biocbuild/bbs-3.20-bioc/R/bin/R CMD INSTALL MatrixGenerics StartedAt: 2025-01-27 15:58:41 -0500 (Mon, 27 Jan 2025) EndedAt: 2025-01-27 15:58:50 -0500 (Mon, 27 Jan 2025) EllapsedTime: 8.9 seconds RetCode: 0 Status: OK