Package: MatrixGenerics Version: 1.18.1 Command: /Library/Frameworks/R.framework/Resources/bin/R CMD INSTALL MatrixGenerics StartedAt: 2025-01-27 15:12:10 -0500 (Mon, 27 Jan 2025) EndedAt: 2025-01-27 15:12:21 -0500 (Mon, 27 Jan 2025) EllapsedTime: 10.8 seconds RetCode: 0 Status: OK