Package: MatrixGenerics Version: 1.18.1 Command: /Library/Frameworks/R.framework/Resources/bin/R CMD check --install=check:MatrixGenerics.install-out.txt --library=/Library/Frameworks/R.framework/Resources/library --no-vignettes --timings MatrixGenerics_1.18.1.tar.gz StartedAt: 2025-01-28 06:02:27 -0500 (Tue, 28 Jan 2025) EndedAt: 2025-01-28 06:03:32 -0500 (Tue, 28 Jan 2025) EllapsedTime: 64.5 seconds RetCode: 0 Status: OK CheckDir: MatrixGenerics.Rcheck Warnings: 0