Package: MatrixGenerics Version: 1.18.1 Command: /Library/Frameworks/R.framework/Resources/bin/R CMD build --keep-empty-dirs --no-resave-data MatrixGenerics StartedAt: 2025-01-27 20:10:33 -0500 (Mon, 27 Jan 2025) EndedAt: 2025-01-27 20:10:36 -0500 (Mon, 27 Jan 2025) EllapsedTime: 3.3 seconds RetCode: 0 Status: OK PackageFile: MatrixGenerics_1.18.1.tar.gz PackageFileSize: 31.27 KiB