Package: MatrixGenerics Version: 1.18.1 Command: rm -rf MatrixGenerics.buildbin-libdir && mkdir MatrixGenerics.buildbin-libdir && /Users/biocbuild/BBS/utils/build-universal.sh MatrixGenerics_1.18.1.tar.gz /Library/Frameworks/R.framework/Resources/bin/R MatrixGenerics.buildbin-libdir StartedAt: 2025-01-28 13:35:56 -0500 (Tue, 28 Jan 2025) EndedAt: 2025-01-28 13:36:14 -0500 (Tue, 28 Jan 2025) EllapsedTime: 17.4 seconds RetCode: 0 Status: OK PackageFile: MatrixGenerics_1.18.1.tgz PackageFileSize: 431.5 KiB