Package: MatrixGenerics Version: 1.18.1 Command: /Library/Frameworks/R.framework/Resources/bin/R CMD INSTALL MatrixGenerics StartedAt: 2025-03-31 15:11:10 -0400 (Mon, 31 Mar 2025) EndedAt: 2025-03-31 15:11:16 -0400 (Mon, 31 Mar 2025) EllapsedTime: 5.1 seconds RetCode: 0 Status: OK