Package: MatrixGenerics Version: 1.18.1 Command: /Library/Frameworks/R.framework/Resources/bin/R CMD check --install=check:MatrixGenerics.install-out.txt --library=/Library/Frameworks/R.framework/Resources/library --no-vignettes --timings MatrixGenerics_1.18.1.tar.gz StartedAt: 2025-02-05 00:40:15 -0500 (Wed, 05 Feb 2025) EndedAt: 2025-02-05 00:40:50 -0500 (Wed, 05 Feb 2025) EllapsedTime: 34.8 seconds RetCode: 0 Status: OK CheckDir: MatrixGenerics.Rcheck Warnings: 0