Package: MatrixGenerics Version: 1.18.1 Command: /Library/Frameworks/R.framework/Resources/bin/R CMD build --keep-empty-dirs --no-resave-data MatrixGenerics StartedAt: 2025-02-04 02:36:25 -0500 (Tue, 04 Feb 2025) EndedAt: 2025-02-04 02:36:26 -0500 (Tue, 04 Feb 2025) EllapsedTime: 1.2 seconds RetCode: 0 Status: OK PackageFile: MatrixGenerics_1.18.1.tar.gz PackageFileSize: 31.27 KiB