Package: MatrixGenerics Version: 1.18.1 Command: rm -rf MatrixGenerics.buildbin-libdir && mkdir MatrixGenerics.buildbin-libdir && /Users/biocbuild/BBS/utils/build-universal.sh MatrixGenerics_1.18.1.tar.gz /Library/Frameworks/R.framework/Resources/bin/R MatrixGenerics.buildbin-libdir StartedAt: 2025-02-05 16:29:56 -0500 (Wed, 05 Feb 2025) EndedAt: 2025-02-05 16:30:03 -0500 (Wed, 05 Feb 2025) EllapsedTime: 6.7 seconds RetCode: 0 Status: OK PackageFile: MatrixGenerics_1.18.1.tgz PackageFileSize: 431.5 KiB