Package: MassSpecWavelet Version: 1.72.1 Command: /home/biocbuild/R/R/bin/R CMD build --keep-empty-dirs --no-resave-data MassSpecWavelet StartedAt: 2025-01-28 01:19:01 -0000 (Tue, 28 Jan 2025) EndedAt: 2025-01-28 01:20:09 -0000 (Tue, 28 Jan 2025) EllapsedTime: 68.0 seconds RetCode: 0 Status: OK PackageFile: MassSpecWavelet_1.72.1.tar.gz PackageFileSize: 1.317 MiB