Package: MassSpecWavelet Version: 1.72.1 Command: F:\biocbuild\bbs-3.20-bioc\R\bin\R.exe CMD INSTALL MassSpecWavelet StartedAt: 2025-03-31 15:20:37 -0400 (Mon, 31 Mar 2025) EndedAt: 2025-03-31 15:21:08 -0400 (Mon, 31 Mar 2025) EllapsedTime: 31.0 seconds RetCode: 0 Status: OK